BEGIN:VCALENDAR
VERSION:2.0
PRODID:-//Länderzentrum für Niederdeutsch gGmbH - ECPv6.15.20//NONSGML v1.0//EN
CALSCALE:GREGORIAN
METHOD:PUBLISH
X-WR-CALNAME:Länderzentrum für Niederdeutsch gGmbH
X-ORIGINAL-URL:https://xn--lnderzentrum-fr-niederdeutsch-0pc17e.de
X-WR-CALDESC:Veranstaltungen für Länderzentrum für Niederdeutsch gGmbH
REFRESH-INTERVAL;VALUE=DURATION:PT1H
X-Robots-Tag:noindex
X-PUBLISHED-TTL:PT1H
BEGIN:VTIMEZONE
TZID:Europe/Berlin
BEGIN:DAYLIGHT
TZOFFSETFROM:+0100
TZOFFSETTO:+0200
TZNAME:CEST
DTSTART:20180325T010000
END:DAYLIGHT
BEGIN:STANDARD
TZOFFSETFROM:+0200
TZOFFSETTO:+0100
TZNAME:CET
DTSTART:20181028T010000
END:STANDARD
BEGIN:DAYLIGHT
TZOFFSETFROM:+0100
TZOFFSETTO:+0200
TZNAME:CEST
DTSTART:20190331T010000
END:DAYLIGHT
BEGIN:STANDARD
TZOFFSETFROM:+0200
TZOFFSETTO:+0100
TZNAME:CET
DTSTART:20191027T010000
END:STANDARD
BEGIN:DAYLIGHT
TZOFFSETFROM:+0100
TZOFFSETTO:+0200
TZNAME:CEST
DTSTART:20200329T010000
END:DAYLIGHT
BEGIN:STANDARD
TZOFFSETFROM:+0200
TZOFFSETTO:+0100
TZNAME:CET
DTSTART:20201025T010000
END:STANDARD
END:VTIMEZONE
BEGIN:VEVENT
DTSTART;TZID=Europe/Berlin:20190906T080000
DTEND;TZID=Europe/Berlin:20190908T170000
DTSTAMP:20260423T194332
CREATED:20200304T171933Z
LAST-MODIFIED:20200304T171933Z
UID:10000217-1567756800-1567962000@xn--lnderzentrum-fr-niederdeutsch-0pc17e.de
SUMMARY:Platt lehren lehren Aus- und Fortbildung von Kursleitern im September
DESCRIPTION:Text: Gesa Retzlaff \nPlattdüütsch-Zentrum Landesdeel Schleswig \nIn dem zweitägigen Seminar (Beginn Freitagabend) sollen Kursleiter für plattdeutsche Spracherwerbskurse in der Erwachsenenbildung qualifiziert werden. Es geht dabei vorrangig um die Vermittlung von Kompetenzen in folgenden Bereichen: Basissituationen bzw. Themen für einen Anfängerkurs\, Methoden spielerischen Lernens\, Elemente eines Basiswortschatzes und einer Basisgrammatik\, inhaltlicher Aufbau von Sprachkursen\, Umgang mit Teilnehmern. Ausgangspunkt ist ein Katalog mit Themen und Situationen\, in denen Plattdeutsch in Schleswig-Holstein nachweislich gesprochen werden kann. Diesen Basissituationen wird ein Grundwortschatz zugeordnet\, der die wesentlichen Kommunikationsmittel für eine Verständigung umfasst. Dabei werden gängige Themenbereiche wie z.B. Begrüßungen\, Kennenlernen\, Verwandtschaftsformen\, Zahlen\, Uhrzeiten\, Kleidung\, Nahrungsmittel\, Farben\, Pflanzen\, Tiere\, Gebäude usw. erfasst. Kenntnisse grammatischer Strukturen wie z.B. Wortarten und Satzteile\, Satzarten\, die Beugung von regelmäßigen und unregelmäßigen Tätigkeitswörtern (ik gah\, du geihst usw.)\, Mehrzahlformen der Hauptwörter usw. sind für die erfolgreiche Sprachvermittlung unerlässlich. Erwachsenenbildung in der Freizeit muss lebendig\, anschaulich und auch unterhaltsam sein. Deshalb werden einschlägige Methoden für einen kommunikativen Spracherwerbskurs erläutert und praktisch erprobt. Plattdeutsche Lieder älterer und neuerer Form sowie Sprachspiele unterschiedlichster Art lockern den Programmablauf auf und dienen der Motivation. In der Fortbildung wird das Lehrwerk „Platt. Dat Lehrbook“ von Hartmut Arbatzat zugrunde gelegt. Den jeweiligen Lektionen bzw. Inhalten werden entsprechende methodische Hilfen zugeordnet. Die Sprachkurslektionen werden beispielhaft erprobt. Die Teilnehmer sollten als Voraussetzung für die Kursteilnahme Plattdeutsch fließend sprechen können. Pädagogische Erfahrungen oder schriftsprachliche Kenntnisse werden nicht vorausgesetzt. \nKosten: für Unterkunft/Verpflegung p.P. 147 € im DZ / 167 € im EZ.\nDie Seminarkosten werden vom Förderverein des Plattdüütsch-Zentrums übernommen.\nAnmeldung: Zentrum für Niederdeutsch – Plattdüütsch-Zentrum 04662 – 77272\ninfo@plattdeutsches-zentrum.de
URL:https://xn--lnderzentrum-fr-niederdeutsch-0pc17e.de/veranstalt/platt-lehren-lehren-aus-und-fortbildung-von-kursleitern-im-september/
LOCATION:Nordsee-Akademie\, Flensburger Str. 18\, Leck\, Schleswig-Holstein\, 25917\, Deutschland
CATEGORIES:Fortbildung
END:VEVENT
END:VCALENDAR