BEGIN:VCALENDAR
VERSION:2.0
PRODID:-//Länderzentrum für Niederdeutsch gGmbH - ECPv6.15.20//NONSGML v1.0//EN
CALSCALE:GREGORIAN
METHOD:PUBLISH
X-WR-CALNAME:Länderzentrum für Niederdeutsch gGmbH
X-ORIGINAL-URL:https://xn--lnderzentrum-fr-niederdeutsch-0pc17e.de
X-WR-CALDESC:Veranstaltungen für Länderzentrum für Niederdeutsch gGmbH
REFRESH-INTERVAL;VALUE=DURATION:PT1H
X-Robots-Tag:noindex
X-PUBLISHED-TTL:PT1H
BEGIN:VTIMEZONE
TZID:Europe/Berlin
BEGIN:DAYLIGHT
TZOFFSETFROM:+0100
TZOFFSETTO:+0200
TZNAME:CEST
DTSTART:20250330T010000
END:DAYLIGHT
BEGIN:STANDARD
TZOFFSETFROM:+0200
TZOFFSETTO:+0100
TZNAME:CET
DTSTART:20251026T010000
END:STANDARD
BEGIN:DAYLIGHT
TZOFFSETFROM:+0100
TZOFFSETTO:+0200
TZNAME:CEST
DTSTART:20260329T010000
END:DAYLIGHT
BEGIN:STANDARD
TZOFFSETFROM:+0200
TZOFFSETTO:+0100
TZNAME:CET
DTSTART:20261025T010000
END:STANDARD
BEGIN:DAYLIGHT
TZOFFSETFROM:+0100
TZOFFSETTO:+0200
TZNAME:CEST
DTSTART:20270328T010000
END:DAYLIGHT
BEGIN:STANDARD
TZOFFSETFROM:+0200
TZOFFSETTO:+0100
TZNAME:CET
DTSTART:20271031T010000
END:STANDARD
END:VTIMEZONE
BEGIN:VEVENT
DTSTART;TZID=Europe/Berlin:20260302T193000
DTEND;TZID=Europe/Berlin:20260302T210000
DTSTAMP:20260422T130954
CREATED:20251027T154522Z
LAST-MODIFIED:20251027T154524Z
UID:10000979-1772479800-1772485200@xn--lnderzentrum-fr-niederdeutsch-0pc17e.de
SUMMARY:Snack Platt\, Ööv dat\, 1-26
DESCRIPTION:Dauer: 8 Termine der ModuleTermin: Montag 19:30 – 21:00 Uhr(19.01.; 26.01.; 02.02.; 09.02.; 16.02.; 23.02.; 02.03.; 09.03.)Teilnehmerzahl: min 4 bis max 10 TeilnehmendeZielgruppe: Fortgeschrittene\, die am Webseminar„Snack Platt\, Tru di“ teilgenommen haben.Ziel: Ohne Hemmungen Platt sprechenMit: Hannes Frahm \n\n\n\nKursgebühr 75 Euro \n\n\n\nBitte melden Sie sich unter robben@lzn-bremen.de an
URL:https://xn--lnderzentrum-fr-niederdeutsch-0pc17e.de/veranstalt/snack-platt-oeoev-dat-1-26/2026-03-02/
CATEGORIES:Sprachkurse,Web-Seminare
END:VEVENT
BEGIN:VEVENT
DTSTART;TZID=Europe/Berlin:20260304T170000
DTEND;TZID=Europe/Berlin:20260304T183000
DTSTAMP:20260422T130954
CREATED:20251027T154233Z
LAST-MODIFIED:20251027T154234Z
UID:10000988-1772643600-1772649000@xn--lnderzentrum-fr-niederdeutsch-0pc17e.de
SUMMARY:Snack Platt\, Maak dat fast\, 1-26
DESCRIPTION:Dauer: 8 Termine der ModuleTermin: Mittwoch 17:00 – 18:30 Uhr(21.01.; 28.01.; 11.02.; 18.02.; 25.02.; 04.03.; 11.03.; 18.03.)Teilnehmerzahl: min 4 bis max 14 TeilnehmendeZielgruppe: Fortgeschrittene\, die am Webseminar„Snack Platt\, Röög di“ teilgenommen habenund Interesse an gute plattdeutsche Literatur haben.Ziel: Ohne Hemmungen Platt sprechenMit: Hannes Frahm \n\n\n\nKursgebühr 75 Euro \n\n\n\nBitte melden Sie sich an unter robben@lzn-bremen.de
URL:https://xn--lnderzentrum-fr-niederdeutsch-0pc17e.de/veranstalt/snack-platt-maak-dat-fast-1-26/2026-03-04/
CATEGORIES:Sprachkurse,Web-Seminare
END:VEVENT
BEGIN:VEVENT
DTSTART;TZID=Europe/Berlin:20260304T193000
DTEND;TZID=Europe/Berlin:20260304T210000
DTSTAMP:20260422T130954
CREATED:20251027T155209Z
LAST-MODIFIED:20251027T155211Z
UID:10001080-1772652600-1772658000@xn--lnderzentrum-fr-niederdeutsch-0pc17e.de
SUMMARY:Snack Platt\, Tru di\, 1-26
DESCRIPTION:Dauer: 8 Termine der ModuleTermin: Mittwoch 19:30 – 21:00 Uhr(21.01.; 28.01.; 11.02.; 18.02.; 25.02.; 04.03.; 11.03.; 18.03.)Teilnehmerzahl: min 4 bis max 10 TeilnehmendeZielgruppe: Anfänger mit geringen oder ohne Plattdeutschkenntnisse\,die Lust haben\, diese Sprache zu erlernen.Ziel: Ohne Hemmungen Platt sprechenMit: Hannes Frahm \n\n\n\nKursgebühr 75 Euro \n\n\n\nBitte melden Sie sich unter robben@lzn-bremen.de an
URL:https://xn--lnderzentrum-fr-niederdeutsch-0pc17e.de/veranstalt/snack-platt-tru-di-1-26-2/2026-03-04/
CATEGORIES:Sprachkurse,Web-Seminare
END:VEVENT
BEGIN:VEVENT
DTSTART;TZID=Europe/Berlin:20260309T193000
DTEND;TZID=Europe/Berlin:20260309T210000
DTSTAMP:20260422T130954
CREATED:20251027T154522Z
LAST-MODIFIED:20251027T154524Z
UID:10000980-1773084600-1773090000@xn--lnderzentrum-fr-niederdeutsch-0pc17e.de
SUMMARY:Snack Platt\, Ööv dat\, 1-26
DESCRIPTION:Dauer: 8 Termine der ModuleTermin: Montag 19:30 – 21:00 Uhr(19.01.; 26.01.; 02.02.; 09.02.; 16.02.; 23.02.; 02.03.; 09.03.)Teilnehmerzahl: min 4 bis max 10 TeilnehmendeZielgruppe: Fortgeschrittene\, die am Webseminar„Snack Platt\, Tru di“ teilgenommen haben.Ziel: Ohne Hemmungen Platt sprechenMit: Hannes Frahm \n\n\n\nKursgebühr 75 Euro \n\n\n\nBitte melden Sie sich unter robben@lzn-bremen.de an
URL:https://xn--lnderzentrum-fr-niederdeutsch-0pc17e.de/veranstalt/snack-platt-oeoev-dat-1-26/2026-03-09/
CATEGORIES:Sprachkurse,Web-Seminare
END:VEVENT
BEGIN:VEVENT
DTSTART;TZID=Europe/Berlin:20260311T170000
DTEND;TZID=Europe/Berlin:20260311T183000
DTSTAMP:20260422T130954
CREATED:20251027T154233Z
LAST-MODIFIED:20251027T154234Z
UID:10000989-1773248400-1773253800@xn--lnderzentrum-fr-niederdeutsch-0pc17e.de
SUMMARY:Snack Platt\, Maak dat fast\, 1-26
DESCRIPTION:Dauer: 8 Termine der ModuleTermin: Mittwoch 17:00 – 18:30 Uhr(21.01.; 28.01.; 11.02.; 18.02.; 25.02.; 04.03.; 11.03.; 18.03.)Teilnehmerzahl: min 4 bis max 14 TeilnehmendeZielgruppe: Fortgeschrittene\, die am Webseminar„Snack Platt\, Röög di“ teilgenommen habenund Interesse an gute plattdeutsche Literatur haben.Ziel: Ohne Hemmungen Platt sprechenMit: Hannes Frahm \n\n\n\nKursgebühr 75 Euro \n\n\n\nBitte melden Sie sich an unter robben@lzn-bremen.de
URL:https://xn--lnderzentrum-fr-niederdeutsch-0pc17e.de/veranstalt/snack-platt-maak-dat-fast-1-26/2026-03-11/
CATEGORIES:Sprachkurse,Web-Seminare
END:VEVENT
BEGIN:VEVENT
DTSTART;TZID=Europe/Berlin:20260311T193000
DTEND;TZID=Europe/Berlin:20260311T210000
DTSTAMP:20260422T130954
CREATED:20251027T155209Z
LAST-MODIFIED:20251027T155211Z
UID:10001081-1773257400-1773262800@xn--lnderzentrum-fr-niederdeutsch-0pc17e.de
SUMMARY:Snack Platt\, Tru di\, 1-26
DESCRIPTION:Dauer: 8 Termine der ModuleTermin: Mittwoch 19:30 – 21:00 Uhr(21.01.; 28.01.; 11.02.; 18.02.; 25.02.; 04.03.; 11.03.; 18.03.)Teilnehmerzahl: min 4 bis max 10 TeilnehmendeZielgruppe: Anfänger mit geringen oder ohne Plattdeutschkenntnisse\,die Lust haben\, diese Sprache zu erlernen.Ziel: Ohne Hemmungen Platt sprechenMit: Hannes Frahm \n\n\n\nKursgebühr 75 Euro \n\n\n\nBitte melden Sie sich unter robben@lzn-bremen.de an
URL:https://xn--lnderzentrum-fr-niederdeutsch-0pc17e.de/veranstalt/snack-platt-tru-di-1-26-2/2026-03-11/
CATEGORIES:Sprachkurse,Web-Seminare
END:VEVENT
BEGIN:VEVENT
DTSTART;TZID=Europe/Berlin:20260318T170000
DTEND;TZID=Europe/Berlin:20260318T183000
DTSTAMP:20260422T130954
CREATED:20251027T154233Z
LAST-MODIFIED:20251027T154234Z
UID:10000990-1773853200-1773858600@xn--lnderzentrum-fr-niederdeutsch-0pc17e.de
SUMMARY:Snack Platt\, Maak dat fast\, 1-26
DESCRIPTION:Dauer: 8 Termine der ModuleTermin: Mittwoch 17:00 – 18:30 Uhr(21.01.; 28.01.; 11.02.; 18.02.; 25.02.; 04.03.; 11.03.; 18.03.)Teilnehmerzahl: min 4 bis max 14 TeilnehmendeZielgruppe: Fortgeschrittene\, die am Webseminar„Snack Platt\, Röög di“ teilgenommen habenund Interesse an gute plattdeutsche Literatur haben.Ziel: Ohne Hemmungen Platt sprechenMit: Hannes Frahm \n\n\n\nKursgebühr 75 Euro \n\n\n\nBitte melden Sie sich an unter robben@lzn-bremen.de
URL:https://xn--lnderzentrum-fr-niederdeutsch-0pc17e.de/veranstalt/snack-platt-maak-dat-fast-1-26/2026-03-18/
CATEGORIES:Sprachkurse,Web-Seminare
END:VEVENT
BEGIN:VEVENT
DTSTART;TZID=Europe/Berlin:20260318T193000
DTEND;TZID=Europe/Berlin:20260318T210000
DTSTAMP:20260422T130954
CREATED:20251027T155209Z
LAST-MODIFIED:20251027T155211Z
UID:10001082-1773862200-1773867600@xn--lnderzentrum-fr-niederdeutsch-0pc17e.de
SUMMARY:Snack Platt\, Tru di\, 1-26
DESCRIPTION:Dauer: 8 Termine der ModuleTermin: Mittwoch 19:30 – 21:00 Uhr(21.01.; 28.01.; 11.02.; 18.02.; 25.02.; 04.03.; 11.03.; 18.03.)Teilnehmerzahl: min 4 bis max 10 TeilnehmendeZielgruppe: Anfänger mit geringen oder ohne Plattdeutschkenntnisse\,die Lust haben\, diese Sprache zu erlernen.Ziel: Ohne Hemmungen Platt sprechenMit: Hannes Frahm \n\n\n\nKursgebühr 75 Euro \n\n\n\nBitte melden Sie sich unter robben@lzn-bremen.de an
URL:https://xn--lnderzentrum-fr-niederdeutsch-0pc17e.de/veranstalt/snack-platt-tru-di-1-26-2/2026-03-18/
CATEGORIES:Sprachkurse,Web-Seminare
END:VEVENT
END:VCALENDAR