BEGIN:VCALENDAR
VERSION:2.0
PRODID:-//Länderzentrum für Niederdeutsch gGmbH - ECPv6.15.20//NONSGML v1.0//EN
CALSCALE:GREGORIAN
METHOD:PUBLISH
X-ORIGINAL-URL:https://xn--lnderzentrum-fr-niederdeutsch-0pc17e.de
X-WR-CALDESC:Veranstaltungen für Länderzentrum für Niederdeutsch gGmbH
REFRESH-INTERVAL;VALUE=DURATION:PT1H
X-Robots-Tag:noindex
X-PUBLISHED-TTL:PT1H
BEGIN:VTIMEZONE
TZID:Europe/Berlin
BEGIN:DAYLIGHT
TZOFFSETFROM:+0100
TZOFFSETTO:+0200
TZNAME:CEST
DTSTART:20240331T010000
END:DAYLIGHT
BEGIN:STANDARD
TZOFFSETFROM:+0200
TZOFFSETTO:+0100
TZNAME:CET
DTSTART:20241027T010000
END:STANDARD
BEGIN:DAYLIGHT
TZOFFSETFROM:+0100
TZOFFSETTO:+0200
TZNAME:CEST
DTSTART:20250330T010000
END:DAYLIGHT
BEGIN:STANDARD
TZOFFSETFROM:+0200
TZOFFSETTO:+0100
TZNAME:CET
DTSTART:20251026T010000
END:STANDARD
BEGIN:DAYLIGHT
TZOFFSETFROM:+0100
TZOFFSETTO:+0200
TZNAME:CEST
DTSTART:20260329T010000
END:DAYLIGHT
BEGIN:STANDARD
TZOFFSETFROM:+0200
TZOFFSETTO:+0100
TZNAME:CET
DTSTART:20261025T010000
END:STANDARD
END:VTIMEZONE
BEGIN:VEVENT
DTSTART;TZID=Europe/Berlin:20251001T170000
DTEND;TZID=Europe/Berlin:20251001T183000
DTSTAMP:20260422T132025
CREATED:20250326T155936Z
LAST-MODIFIED:20250326T155937Z
UID:10000960-1759338000-1759343400@xn--lnderzentrum-fr-niederdeutsch-0pc17e.de
SUMMARY:Snack Platt\, maak dat fast\, 3-25
DESCRIPTION:Dauer: 8 Termine der ModuleTermin: Mittwoch 17:00 – 18:30 Uhr(10.09.; 17.09.; 24.09.; 01.10.; 08.10.; 15.10.; 22.10.; 29.10.)Teilnehmerzahl: min 4 bis max 15 TeilnehmendeZielgruppe: Fortgeschrittene\, die am Webseminar„Snack Platt\, röög di“ teilgenommen habenZiel: Ohne Hemmungen Platt sprechenMit: Hannes FrahmDie Teilnahmegebühr beträgt 75 Euro \n\n\n\nBitte melden Sie sich an unter robben@lzn-bremen.de
URL:https://xn--lnderzentrum-fr-niederdeutsch-0pc17e.de/veranstalt/snack-platt-maak-dat-fast-3-25/2025-10-01/
CATEGORIES:Sprachkurse,Web-Seminare
END:VEVENT
BEGIN:VEVENT
DTSTART;TZID=Europe/Berlin:20251001T193000
DTEND;TZID=Europe/Berlin:20251001T210000
DTSTAMP:20260422T132025
CREATED:20250326T160355Z
LAST-MODIFIED:20250326T160356Z
UID:10000968-1759347000-1759352400@xn--lnderzentrum-fr-niederdeutsch-0pc17e.de
SUMMARY:Snack Platt\, röög di\, 3-25
DESCRIPTION:Dauer: 8 Termine der ModuleTermin: Mittwoch 19:30 – 21:00 Uhr(10.09.; 17.09.; 24.09.; 01.10.; 08.10.; 15.10.; 22.10.; 29.10.)Teilnehmerzahl: min 4 bis max 14 TeilnehmendeZielgruppe: Fortgeschrittene\, die am Webseminar„Snack Platt\, ööv dat“ teilgenommen haben.Ziel: Ohne Hemmungen Platt sprechenMit: Hannes Frahm \n\n\n\nDie Kursgebühr beträgt 75 Euro \n\n\n\nBitte melden Sie sich an unter robben@lzn-bremen.de
URL:https://xn--lnderzentrum-fr-niederdeutsch-0pc17e.de/veranstalt/snack-platt-roeoeg-di-3-25/2025-10-01/
CATEGORIES:Sprachkurse,Web-Seminare
END:VEVENT
BEGIN:VEVENT
DTSTART;TZID=Europe/Berlin:20251006T193000
DTEND;TZID=Europe/Berlin:20251006T210000
DTSTAMP:20260422T132025
CREATED:20250326T155521Z
LAST-MODIFIED:20250326T155521Z
UID:10000953-1759779000-1759784400@xn--lnderzentrum-fr-niederdeutsch-0pc17e.de
SUMMARY:Snack Platt\, tru di\, 3-25
DESCRIPTION:Dauer: 8 Termine der ModuleTermin: Montag 19:30 – 21:00 Uhr(08.09.; 15.09.; 22.09.; 29.09.; 06.10.; 13.10.; 20.10.; 27.10.)Teilnehmerzahl: min 4 bis max 10 TeilnehmendeZielgruppe: Anfänger mit geringen oder ohne Plattdeutschkenntnisse\, die Lust haben\, diese Sprache zu erlernen.Ziel: Ohne Hemmungen Platt sprechenMit: Hannes FrahmDie Teilnahmegebühr beträgt 75 Euro \n\n\n\nBitte melden Sie sich unter robben@lzn-bremen.de an
URL:https://xn--lnderzentrum-fr-niederdeutsch-0pc17e.de/veranstalt/snack-platt-tru-di-3-25/2025-10-06/
CATEGORIES:Sprachkurse,Web-Seminare
END:VEVENT
BEGIN:VEVENT
DTSTART;TZID=Europe/Berlin:20251008T170000
DTEND;TZID=Europe/Berlin:20251008T183000
DTSTAMP:20260422T132025
CREATED:20250326T155936Z
LAST-MODIFIED:20250326T155937Z
UID:10000961-1759942800-1759948200@xn--lnderzentrum-fr-niederdeutsch-0pc17e.de
SUMMARY:Snack Platt\, maak dat fast\, 3-25
DESCRIPTION:Dauer: 8 Termine der ModuleTermin: Mittwoch 17:00 – 18:30 Uhr(10.09.; 17.09.; 24.09.; 01.10.; 08.10.; 15.10.; 22.10.; 29.10.)Teilnehmerzahl: min 4 bis max 15 TeilnehmendeZielgruppe: Fortgeschrittene\, die am Webseminar„Snack Platt\, röög di“ teilgenommen habenZiel: Ohne Hemmungen Platt sprechenMit: Hannes FrahmDie Teilnahmegebühr beträgt 75 Euro \n\n\n\nBitte melden Sie sich an unter robben@lzn-bremen.de
URL:https://xn--lnderzentrum-fr-niederdeutsch-0pc17e.de/veranstalt/snack-platt-maak-dat-fast-3-25/2025-10-08/
CATEGORIES:Sprachkurse,Web-Seminare
END:VEVENT
BEGIN:VEVENT
DTSTART;TZID=Europe/Berlin:20251008T193000
DTEND;TZID=Europe/Berlin:20251008T210000
DTSTAMP:20260422T132025
CREATED:20250326T160355Z
LAST-MODIFIED:20250326T160356Z
UID:10000969-1759951800-1759957200@xn--lnderzentrum-fr-niederdeutsch-0pc17e.de
SUMMARY:Snack Platt\, röög di\, 3-25
DESCRIPTION:Dauer: 8 Termine der ModuleTermin: Mittwoch 19:30 – 21:00 Uhr(10.09.; 17.09.; 24.09.; 01.10.; 08.10.; 15.10.; 22.10.; 29.10.)Teilnehmerzahl: min 4 bis max 14 TeilnehmendeZielgruppe: Fortgeschrittene\, die am Webseminar„Snack Platt\, ööv dat“ teilgenommen haben.Ziel: Ohne Hemmungen Platt sprechenMit: Hannes Frahm \n\n\n\nDie Kursgebühr beträgt 75 Euro \n\n\n\nBitte melden Sie sich an unter robben@lzn-bremen.de
URL:https://xn--lnderzentrum-fr-niederdeutsch-0pc17e.de/veranstalt/snack-platt-roeoeg-di-3-25/2025-10-08/
CATEGORIES:Sprachkurse,Web-Seminare
END:VEVENT
BEGIN:VEVENT
DTSTART;TZID=Europe/Berlin:20251013T193000
DTEND;TZID=Europe/Berlin:20251013T210000
DTSTAMP:20260422T132025
CREATED:20250326T155521Z
LAST-MODIFIED:20250326T155521Z
UID:10000954-1760383800-1760389200@xn--lnderzentrum-fr-niederdeutsch-0pc17e.de
SUMMARY:Snack Platt\, tru di\, 3-25
DESCRIPTION:Dauer: 8 Termine der ModuleTermin: Montag 19:30 – 21:00 Uhr(08.09.; 15.09.; 22.09.; 29.09.; 06.10.; 13.10.; 20.10.; 27.10.)Teilnehmerzahl: min 4 bis max 10 TeilnehmendeZielgruppe: Anfänger mit geringen oder ohne Plattdeutschkenntnisse\, die Lust haben\, diese Sprache zu erlernen.Ziel: Ohne Hemmungen Platt sprechenMit: Hannes FrahmDie Teilnahmegebühr beträgt 75 Euro \n\n\n\nBitte melden Sie sich unter robben@lzn-bremen.de an
URL:https://xn--lnderzentrum-fr-niederdeutsch-0pc17e.de/veranstalt/snack-platt-tru-di-3-25/2025-10-13/
CATEGORIES:Sprachkurse,Web-Seminare
END:VEVENT
BEGIN:VEVENT
DTSTART;TZID=Europe/Berlin:20251015T170000
DTEND;TZID=Europe/Berlin:20251015T183000
DTSTAMP:20260422T132025
CREATED:20250326T155936Z
LAST-MODIFIED:20250326T155937Z
UID:10000962-1760547600-1760553000@xn--lnderzentrum-fr-niederdeutsch-0pc17e.de
SUMMARY:Snack Platt\, maak dat fast\, 3-25
DESCRIPTION:Dauer: 8 Termine der ModuleTermin: Mittwoch 17:00 – 18:30 Uhr(10.09.; 17.09.; 24.09.; 01.10.; 08.10.; 15.10.; 22.10.; 29.10.)Teilnehmerzahl: min 4 bis max 15 TeilnehmendeZielgruppe: Fortgeschrittene\, die am Webseminar„Snack Platt\, röög di“ teilgenommen habenZiel: Ohne Hemmungen Platt sprechenMit: Hannes FrahmDie Teilnahmegebühr beträgt 75 Euro \n\n\n\nBitte melden Sie sich an unter robben@lzn-bremen.de
URL:https://xn--lnderzentrum-fr-niederdeutsch-0pc17e.de/veranstalt/snack-platt-maak-dat-fast-3-25/2025-10-15/
CATEGORIES:Sprachkurse,Web-Seminare
END:VEVENT
BEGIN:VEVENT
DTSTART;TZID=Europe/Berlin:20251015T193000
DTEND;TZID=Europe/Berlin:20251015T210000
DTSTAMP:20260422T132025
CREATED:20250326T160355Z
LAST-MODIFIED:20250326T160356Z
UID:10000970-1760556600-1760562000@xn--lnderzentrum-fr-niederdeutsch-0pc17e.de
SUMMARY:Snack Platt\, röög di\, 3-25
DESCRIPTION:Dauer: 8 Termine der ModuleTermin: Mittwoch 19:30 – 21:00 Uhr(10.09.; 17.09.; 24.09.; 01.10.; 08.10.; 15.10.; 22.10.; 29.10.)Teilnehmerzahl: min 4 bis max 14 TeilnehmendeZielgruppe: Fortgeschrittene\, die am Webseminar„Snack Platt\, ööv dat“ teilgenommen haben.Ziel: Ohne Hemmungen Platt sprechenMit: Hannes Frahm \n\n\n\nDie Kursgebühr beträgt 75 Euro \n\n\n\nBitte melden Sie sich an unter robben@lzn-bremen.de
URL:https://xn--lnderzentrum-fr-niederdeutsch-0pc17e.de/veranstalt/snack-platt-roeoeg-di-3-25/2025-10-15/
CATEGORIES:Sprachkurse,Web-Seminare
END:VEVENT
BEGIN:VEVENT
DTSTART;TZID=Europe/Berlin:20251020T193000
DTEND;TZID=Europe/Berlin:20251020T210000
DTSTAMP:20260422T132025
CREATED:20250326T155521Z
LAST-MODIFIED:20250326T155521Z
UID:10000955-1760988600-1760994000@xn--lnderzentrum-fr-niederdeutsch-0pc17e.de
SUMMARY:Snack Platt\, tru di\, 3-25
DESCRIPTION:Dauer: 8 Termine der ModuleTermin: Montag 19:30 – 21:00 Uhr(08.09.; 15.09.; 22.09.; 29.09.; 06.10.; 13.10.; 20.10.; 27.10.)Teilnehmerzahl: min 4 bis max 10 TeilnehmendeZielgruppe: Anfänger mit geringen oder ohne Plattdeutschkenntnisse\, die Lust haben\, diese Sprache zu erlernen.Ziel: Ohne Hemmungen Platt sprechenMit: Hannes FrahmDie Teilnahmegebühr beträgt 75 Euro \n\n\n\nBitte melden Sie sich unter robben@lzn-bremen.de an
URL:https://xn--lnderzentrum-fr-niederdeutsch-0pc17e.de/veranstalt/snack-platt-tru-di-3-25/2025-10-20/
CATEGORIES:Sprachkurse,Web-Seminare
END:VEVENT
BEGIN:VEVENT
DTSTART;TZID=Europe/Berlin:20251022T170000
DTEND;TZID=Europe/Berlin:20251022T183000
DTSTAMP:20260422T132025
CREATED:20250326T155936Z
LAST-MODIFIED:20250326T155937Z
UID:10000963-1761152400-1761157800@xn--lnderzentrum-fr-niederdeutsch-0pc17e.de
SUMMARY:Snack Platt\, maak dat fast\, 3-25
DESCRIPTION:Dauer: 8 Termine der ModuleTermin: Mittwoch 17:00 – 18:30 Uhr(10.09.; 17.09.; 24.09.; 01.10.; 08.10.; 15.10.; 22.10.; 29.10.)Teilnehmerzahl: min 4 bis max 15 TeilnehmendeZielgruppe: Fortgeschrittene\, die am Webseminar„Snack Platt\, röög di“ teilgenommen habenZiel: Ohne Hemmungen Platt sprechenMit: Hannes FrahmDie Teilnahmegebühr beträgt 75 Euro \n\n\n\nBitte melden Sie sich an unter robben@lzn-bremen.de
URL:https://xn--lnderzentrum-fr-niederdeutsch-0pc17e.de/veranstalt/snack-platt-maak-dat-fast-3-25/2025-10-22/
CATEGORIES:Sprachkurse,Web-Seminare
END:VEVENT
BEGIN:VEVENT
DTSTART;TZID=Europe/Berlin:20251022T193000
DTEND;TZID=Europe/Berlin:20251022T210000
DTSTAMP:20260422T132025
CREATED:20250326T160355Z
LAST-MODIFIED:20250326T160356Z
UID:10000971-1761161400-1761166800@xn--lnderzentrum-fr-niederdeutsch-0pc17e.de
SUMMARY:Snack Platt\, röög di\, 3-25
DESCRIPTION:Dauer: 8 Termine der ModuleTermin: Mittwoch 19:30 – 21:00 Uhr(10.09.; 17.09.; 24.09.; 01.10.; 08.10.; 15.10.; 22.10.; 29.10.)Teilnehmerzahl: min 4 bis max 14 TeilnehmendeZielgruppe: Fortgeschrittene\, die am Webseminar„Snack Platt\, ööv dat“ teilgenommen haben.Ziel: Ohne Hemmungen Platt sprechenMit: Hannes Frahm \n\n\n\nDie Kursgebühr beträgt 75 Euro \n\n\n\nBitte melden Sie sich an unter robben@lzn-bremen.de
URL:https://xn--lnderzentrum-fr-niederdeutsch-0pc17e.de/veranstalt/snack-platt-roeoeg-di-3-25/2025-10-22/
CATEGORIES:Sprachkurse,Web-Seminare
END:VEVENT
BEGIN:VEVENT
DTSTART;TZID=Europe/Berlin:20251027T193000
DTEND;TZID=Europe/Berlin:20251027T210000
DTSTAMP:20260422T132025
CREATED:20250326T155521Z
LAST-MODIFIED:20250326T155521Z
UID:10000956-1761593400-1761598800@xn--lnderzentrum-fr-niederdeutsch-0pc17e.de
SUMMARY:Snack Platt\, tru di\, 3-25
DESCRIPTION:Dauer: 8 Termine der ModuleTermin: Montag 19:30 – 21:00 Uhr(08.09.; 15.09.; 22.09.; 29.09.; 06.10.; 13.10.; 20.10.; 27.10.)Teilnehmerzahl: min 4 bis max 10 TeilnehmendeZielgruppe: Anfänger mit geringen oder ohne Plattdeutschkenntnisse\, die Lust haben\, diese Sprache zu erlernen.Ziel: Ohne Hemmungen Platt sprechenMit: Hannes FrahmDie Teilnahmegebühr beträgt 75 Euro \n\n\n\nBitte melden Sie sich unter robben@lzn-bremen.de an
URL:https://xn--lnderzentrum-fr-niederdeutsch-0pc17e.de/veranstalt/snack-platt-tru-di-3-25/2025-10-27/
CATEGORIES:Sprachkurse,Web-Seminare
END:VEVENT
BEGIN:VEVENT
DTSTART;TZID=Europe/Berlin:20251029T170000
DTEND;TZID=Europe/Berlin:20251029T183000
DTSTAMP:20260422T132025
CREATED:20250326T155936Z
LAST-MODIFIED:20250326T155937Z
UID:10000964-1761757200-1761762600@xn--lnderzentrum-fr-niederdeutsch-0pc17e.de
SUMMARY:Snack Platt\, maak dat fast\, 3-25
DESCRIPTION:Dauer: 8 Termine der ModuleTermin: Mittwoch 17:00 – 18:30 Uhr(10.09.; 17.09.; 24.09.; 01.10.; 08.10.; 15.10.; 22.10.; 29.10.)Teilnehmerzahl: min 4 bis max 15 TeilnehmendeZielgruppe: Fortgeschrittene\, die am Webseminar„Snack Platt\, röög di“ teilgenommen habenZiel: Ohne Hemmungen Platt sprechenMit: Hannes FrahmDie Teilnahmegebühr beträgt 75 Euro \n\n\n\nBitte melden Sie sich an unter robben@lzn-bremen.de
URL:https://xn--lnderzentrum-fr-niederdeutsch-0pc17e.de/veranstalt/snack-platt-maak-dat-fast-3-25/2025-10-29/
CATEGORIES:Sprachkurse,Web-Seminare
END:VEVENT
BEGIN:VEVENT
DTSTART;TZID=Europe/Berlin:20251029T193000
DTEND;TZID=Europe/Berlin:20251029T210000
DTSTAMP:20260422T132025
CREATED:20250326T160355Z
LAST-MODIFIED:20250326T160356Z
UID:10000972-1761766200-1761771600@xn--lnderzentrum-fr-niederdeutsch-0pc17e.de
SUMMARY:Snack Platt\, röög di\, 3-25
DESCRIPTION:Dauer: 8 Termine der ModuleTermin: Mittwoch 19:30 – 21:00 Uhr(10.09.; 17.09.; 24.09.; 01.10.; 08.10.; 15.10.; 22.10.; 29.10.)Teilnehmerzahl: min 4 bis max 14 TeilnehmendeZielgruppe: Fortgeschrittene\, die am Webseminar„Snack Platt\, ööv dat“ teilgenommen haben.Ziel: Ohne Hemmungen Platt sprechenMit: Hannes Frahm \n\n\n\nDie Kursgebühr beträgt 75 Euro \n\n\n\nBitte melden Sie sich an unter robben@lzn-bremen.de
URL:https://xn--lnderzentrum-fr-niederdeutsch-0pc17e.de/veranstalt/snack-platt-roeoeg-di-3-25/2025-10-29/
CATEGORIES:Sprachkurse,Web-Seminare
END:VEVENT
END:VCALENDAR