BEGIN:VCALENDAR
VERSION:2.0
PRODID:-//Länderzentrum für Niederdeutsch gGmbH - ECPv6.15.20//NONSGML v1.0//EN
CALSCALE:GREGORIAN
METHOD:PUBLISH
X-ORIGINAL-URL:https://xn--lnderzentrum-fr-niederdeutsch-0pc17e.de
X-WR-CALDESC:Veranstaltungen für Länderzentrum für Niederdeutsch gGmbH
REFRESH-INTERVAL;VALUE=DURATION:PT1H
X-Robots-Tag:noindex
X-PUBLISHED-TTL:PT1H
BEGIN:VTIMEZONE
TZID:Europe/Berlin
BEGIN:DAYLIGHT
TZOFFSETFROM:+0100
TZOFFSETTO:+0200
TZNAME:CEST
DTSTART:20250330T010000
END:DAYLIGHT
BEGIN:STANDARD
TZOFFSETFROM:+0200
TZOFFSETTO:+0100
TZNAME:CET
DTSTART:20251026T010000
END:STANDARD
BEGIN:DAYLIGHT
TZOFFSETFROM:+0100
TZOFFSETTO:+0200
TZNAME:CEST
DTSTART:20260329T010000
END:DAYLIGHT
BEGIN:STANDARD
TZOFFSETFROM:+0200
TZOFFSETTO:+0100
TZNAME:CET
DTSTART:20261025T010000
END:STANDARD
BEGIN:DAYLIGHT
TZOFFSETFROM:+0100
TZOFFSETTO:+0200
TZNAME:CEST
DTSTART:20270328T010000
END:DAYLIGHT
BEGIN:STANDARD
TZOFFSETFROM:+0200
TZOFFSETTO:+0100
TZNAME:CET
DTSTART:20271031T010000
END:STANDARD
END:VTIMEZONE
BEGIN:VEVENT
DTSTART;TZID=Europe/Berlin:20260817T170000
DTEND;TZID=Europe/Berlin:20260817T183000
DTSTAMP:20260422T111908
CREATED:20260415T095036Z
LAST-MODIFIED:20260415T095037Z
UID:10001150-1786986000-1786991400@xn--lnderzentrum-fr-niederdeutsch-0pc17e.de
SUMMARY:Snack Platt\, ööv dat\, 3-26
DESCRIPTION:Dauer: 8 Termine der ModuleTermin: Montag 17:00 – 18:30 Uhr(17.08.; 24.08.; 31.08.; 07.09.; 14.09.; 21.09.; 28.09.; 05.10.)Teilnehmerzahl: min 4 bis max 10 TeilnehmendeZielgruppe: Fortgeschrittene\, die am Webseminar„Snack Platt\, Tru di“ teilgenommen haben.Ziel: Ohne Hemmungen Platt sprechenMit: Hannes Frahm \n\n\n\nDie Kursgebühr beträgt 75 Euro. Bitte melden Sie sich an unter robben@lzn-bremen.de
URL:https://xn--lnderzentrum-fr-niederdeutsch-0pc17e.de/veranstalt/snack-platt-oeoev-dat-3-26/2026-08-17/
CATEGORIES:Web-Seminare
END:VEVENT
BEGIN:VEVENT
DTSTART;TZID=Europe/Berlin:20260817T193000
DTEND;TZID=Europe/Berlin:20260817T210000
DTSTAMP:20260422T111908
CREATED:20260415T095135Z
LAST-MODIFIED:20260415T095137Z
UID:10001158-1786995000-1787000400@xn--lnderzentrum-fr-niederdeutsch-0pc17e.de
SUMMARY:Snack Platt\, tru di\, 3-26
DESCRIPTION:Dauer: 8 Termine der ModuleTermin: Montag 19:30 – 21:00 Uhr(17.08.; 24.08.; 31.08.; 07.09.; 14.09.; 21.09.; 28.09.; 05.10.)Teilnehmerzahl: min 4 bis max 10 TeilnehmendeZielgruppe: Anfänger mit geringen oder ohne Plattdeutschkenntnisse\, die Lust haben\, diese Sprache zu erlernen.Ziel: Ohne Hemmungen Platt sprechenMit: Hannes Frahm \n\n\n\nDie Kursgebühr beträgt 75 Euro. Bitte melden Sie sich an unter robben@lzn-bremen.de
URL:https://xn--lnderzentrum-fr-niederdeutsch-0pc17e.de/veranstalt/snack-platt-tru-di-3-26/2026-08-17/
CATEGORIES:Web-Seminare
END:VEVENT
BEGIN:VEVENT
DTSTART;TZID=Europe/Berlin:20260819T170000
DTEND;TZID=Europe/Berlin:20260819T183000
DTSTAMP:20260422T111908
CREATED:20260415T095318Z
LAST-MODIFIED:20260415T095319Z
UID:10001166-1787158800-1787164200@xn--lnderzentrum-fr-niederdeutsch-0pc17e.de
SUMMARY:Snack Platt\, maak dat fast\, 3-26
DESCRIPTION:Dauer: 8 Termine der ModuleTermin: Mittwoch 17:00 – 18:30 Uhr(19.08.; 26.08.; 02.09.; 09.09.; 16.09.; 23.09.; 30.09.; 07.10.)Teilnehmerzahl: min 4 bis max 15 TeilnehmendeZielgruppe: Fortgeschrittene\, die am Webseminar„Snack Platt\, röög di“ teilgenommen habenZiel: Ohne Hemmungen Platt sprechenMit: Hannes FrahmDie Kursgebühr beträgt 75 Euro. Bitte melden Sie sich an unter robben@lzn-bremen.de
URL:https://xn--lnderzentrum-fr-niederdeutsch-0pc17e.de/veranstalt/snack-platt-maak-dat-fast-3-26/2026-08-19/
CATEGORIES:Web-Seminare
END:VEVENT
BEGIN:VEVENT
DTSTART;TZID=Europe/Berlin:20260819T193000
DTEND;TZID=Europe/Berlin:20260819T210000
DTSTAMP:20260422T111908
CREATED:20260415T095521Z
LAST-MODIFIED:20260415T095523Z
UID:10001174-1787167800-1787173200@xn--lnderzentrum-fr-niederdeutsch-0pc17e.de
SUMMARY:Snack Platt\, röög di\, 3-26
DESCRIPTION:Dauer: 8 Termine der ModuleTermin: Mittwoch 19:30 – 21:00 Uhr(19.08.; 26.08.; 02.09.; 09.09.; 16.09.; 23.09.; 30.09.; 07.10.)Teilnehmerzahl: min 4 bis max 14 TeilnehmendeZielgruppe: Fortgeschrittene\, die am Webseminar„Snack Platt\, ööv dat“ teilgenommen haben.Ziel: Ohne Hemmungen Platt sprechenMit: Hannes FrahmDie Kursgebühr beträgt 75 Euro. Bitte melden Sie sich an unter robben@lzn-bremen.de
URL:https://xn--lnderzentrum-fr-niederdeutsch-0pc17e.de/veranstalt/snack-platt-roeoeg-di-3-26/2026-08-19/
CATEGORIES:Web-Seminare
END:VEVENT
BEGIN:VEVENT
DTSTART;TZID=Europe/Berlin:20260824T170000
DTEND;TZID=Europe/Berlin:20260824T183000
DTSTAMP:20260422T111908
CREATED:20260415T095036Z
LAST-MODIFIED:20260415T095037Z
UID:10001151-1787590800-1787596200@xn--lnderzentrum-fr-niederdeutsch-0pc17e.de
SUMMARY:Snack Platt\, ööv dat\, 3-26
DESCRIPTION:Dauer: 8 Termine der ModuleTermin: Montag 17:00 – 18:30 Uhr(17.08.; 24.08.; 31.08.; 07.09.; 14.09.; 21.09.; 28.09.; 05.10.)Teilnehmerzahl: min 4 bis max 10 TeilnehmendeZielgruppe: Fortgeschrittene\, die am Webseminar„Snack Platt\, Tru di“ teilgenommen haben.Ziel: Ohne Hemmungen Platt sprechenMit: Hannes Frahm \n\n\n\nDie Kursgebühr beträgt 75 Euro. Bitte melden Sie sich an unter robben@lzn-bremen.de
URL:https://xn--lnderzentrum-fr-niederdeutsch-0pc17e.de/veranstalt/snack-platt-oeoev-dat-3-26/2026-08-24/
CATEGORIES:Web-Seminare
END:VEVENT
BEGIN:VEVENT
DTSTART;TZID=Europe/Berlin:20260824T193000
DTEND;TZID=Europe/Berlin:20260824T210000
DTSTAMP:20260422T111908
CREATED:20260415T095135Z
LAST-MODIFIED:20260415T095137Z
UID:10001159-1787599800-1787605200@xn--lnderzentrum-fr-niederdeutsch-0pc17e.de
SUMMARY:Snack Platt\, tru di\, 3-26
DESCRIPTION:Dauer: 8 Termine der ModuleTermin: Montag 19:30 – 21:00 Uhr(17.08.; 24.08.; 31.08.; 07.09.; 14.09.; 21.09.; 28.09.; 05.10.)Teilnehmerzahl: min 4 bis max 10 TeilnehmendeZielgruppe: Anfänger mit geringen oder ohne Plattdeutschkenntnisse\, die Lust haben\, diese Sprache zu erlernen.Ziel: Ohne Hemmungen Platt sprechenMit: Hannes Frahm \n\n\n\nDie Kursgebühr beträgt 75 Euro. Bitte melden Sie sich an unter robben@lzn-bremen.de
URL:https://xn--lnderzentrum-fr-niederdeutsch-0pc17e.de/veranstalt/snack-platt-tru-di-3-26/2026-08-24/
CATEGORIES:Web-Seminare
END:VEVENT
BEGIN:VEVENT
DTSTART;TZID=Europe/Berlin:20260826T170000
DTEND;TZID=Europe/Berlin:20260826T183000
DTSTAMP:20260422T111908
CREATED:20260415T095318Z
LAST-MODIFIED:20260415T095319Z
UID:10001167-1787763600-1787769000@xn--lnderzentrum-fr-niederdeutsch-0pc17e.de
SUMMARY:Snack Platt\, maak dat fast\, 3-26
DESCRIPTION:Dauer: 8 Termine der ModuleTermin: Mittwoch 17:00 – 18:30 Uhr(19.08.; 26.08.; 02.09.; 09.09.; 16.09.; 23.09.; 30.09.; 07.10.)Teilnehmerzahl: min 4 bis max 15 TeilnehmendeZielgruppe: Fortgeschrittene\, die am Webseminar„Snack Platt\, röög di“ teilgenommen habenZiel: Ohne Hemmungen Platt sprechenMit: Hannes FrahmDie Kursgebühr beträgt 75 Euro. Bitte melden Sie sich an unter robben@lzn-bremen.de
URL:https://xn--lnderzentrum-fr-niederdeutsch-0pc17e.de/veranstalt/snack-platt-maak-dat-fast-3-26/2026-08-26/
CATEGORIES:Web-Seminare
END:VEVENT
BEGIN:VEVENT
DTSTART;TZID=Europe/Berlin:20260826T193000
DTEND;TZID=Europe/Berlin:20260826T210000
DTSTAMP:20260422T111908
CREATED:20260415T095521Z
LAST-MODIFIED:20260415T095523Z
UID:10001175-1787772600-1787778000@xn--lnderzentrum-fr-niederdeutsch-0pc17e.de
SUMMARY:Snack Platt\, röög di\, 3-26
DESCRIPTION:Dauer: 8 Termine der ModuleTermin: Mittwoch 19:30 – 21:00 Uhr(19.08.; 26.08.; 02.09.; 09.09.; 16.09.; 23.09.; 30.09.; 07.10.)Teilnehmerzahl: min 4 bis max 14 TeilnehmendeZielgruppe: Fortgeschrittene\, die am Webseminar„Snack Platt\, ööv dat“ teilgenommen haben.Ziel: Ohne Hemmungen Platt sprechenMit: Hannes FrahmDie Kursgebühr beträgt 75 Euro. Bitte melden Sie sich an unter robben@lzn-bremen.de
URL:https://xn--lnderzentrum-fr-niederdeutsch-0pc17e.de/veranstalt/snack-platt-roeoeg-di-3-26/2026-08-26/
CATEGORIES:Web-Seminare
END:VEVENT
BEGIN:VEVENT
DTSTART;TZID=Europe/Berlin:20260831T170000
DTEND;TZID=Europe/Berlin:20260831T183000
DTSTAMP:20260422T111908
CREATED:20260415T095036Z
LAST-MODIFIED:20260415T095037Z
UID:10001152-1788195600-1788201000@xn--lnderzentrum-fr-niederdeutsch-0pc17e.de
SUMMARY:Snack Platt\, ööv dat\, 3-26
DESCRIPTION:Dauer: 8 Termine der ModuleTermin: Montag 17:00 – 18:30 Uhr(17.08.; 24.08.; 31.08.; 07.09.; 14.09.; 21.09.; 28.09.; 05.10.)Teilnehmerzahl: min 4 bis max 10 TeilnehmendeZielgruppe: Fortgeschrittene\, die am Webseminar„Snack Platt\, Tru di“ teilgenommen haben.Ziel: Ohne Hemmungen Platt sprechenMit: Hannes Frahm \n\n\n\nDie Kursgebühr beträgt 75 Euro. Bitte melden Sie sich an unter robben@lzn-bremen.de
URL:https://xn--lnderzentrum-fr-niederdeutsch-0pc17e.de/veranstalt/snack-platt-oeoev-dat-3-26/2026-08-31/
CATEGORIES:Web-Seminare
END:VEVENT
BEGIN:VEVENT
DTSTART;TZID=Europe/Berlin:20260831T193000
DTEND;TZID=Europe/Berlin:20260831T210000
DTSTAMP:20260422T111908
CREATED:20260415T095135Z
LAST-MODIFIED:20260415T095137Z
UID:10001160-1788204600-1788210000@xn--lnderzentrum-fr-niederdeutsch-0pc17e.de
SUMMARY:Snack Platt\, tru di\, 3-26
DESCRIPTION:Dauer: 8 Termine der ModuleTermin: Montag 19:30 – 21:00 Uhr(17.08.; 24.08.; 31.08.; 07.09.; 14.09.; 21.09.; 28.09.; 05.10.)Teilnehmerzahl: min 4 bis max 10 TeilnehmendeZielgruppe: Anfänger mit geringen oder ohne Plattdeutschkenntnisse\, die Lust haben\, diese Sprache zu erlernen.Ziel: Ohne Hemmungen Platt sprechenMit: Hannes Frahm \n\n\n\nDie Kursgebühr beträgt 75 Euro. Bitte melden Sie sich an unter robben@lzn-bremen.de
URL:https://xn--lnderzentrum-fr-niederdeutsch-0pc17e.de/veranstalt/snack-platt-tru-di-3-26/2026-08-31/
CATEGORIES:Web-Seminare
END:VEVENT
END:VCALENDAR