BEGIN:VCALENDAR
VERSION:2.0
PRODID:-//Länderzentrum für Niederdeutsch gGmbH - ECPv6.15.20//NONSGML v1.0//EN
CALSCALE:GREGORIAN
METHOD:PUBLISH
X-WR-CALNAME:Länderzentrum für Niederdeutsch gGmbH
X-ORIGINAL-URL:https://xn--lnderzentrum-fr-niederdeutsch-0pc17e.de
X-WR-CALDESC:Veranstaltungen für Länderzentrum für Niederdeutsch gGmbH
REFRESH-INTERVAL;VALUE=DURATION:PT1H
X-Robots-Tag:noindex
X-PUBLISHED-TTL:PT1H
BEGIN:VTIMEZONE
TZID:Europe/Berlin
BEGIN:DAYLIGHT
TZOFFSETFROM:+0100
TZOFFSETTO:+0200
TZNAME:CEST
DTSTART:20190331T010000
END:DAYLIGHT
BEGIN:STANDARD
TZOFFSETFROM:+0200
TZOFFSETTO:+0100
TZNAME:CET
DTSTART:20191027T010000
END:STANDARD
BEGIN:DAYLIGHT
TZOFFSETFROM:+0100
TZOFFSETTO:+0200
TZNAME:CEST
DTSTART:20200329T010000
END:DAYLIGHT
BEGIN:STANDARD
TZOFFSETFROM:+0200
TZOFFSETTO:+0100
TZNAME:CET
DTSTART:20201025T010000
END:STANDARD
BEGIN:DAYLIGHT
TZOFFSETFROM:+0100
TZOFFSETTO:+0200
TZNAME:CEST
DTSTART:20210328T010000
END:DAYLIGHT
BEGIN:STANDARD
TZOFFSETFROM:+0200
TZOFFSETTO:+0100
TZNAME:CET
DTSTART:20211031T010000
END:STANDARD
END:VTIMEZONE
BEGIN:VEVENT
DTSTART;TZID=Europe/Berlin:20200326T180000
DTEND;TZID=Europe/Berlin:20200326T190000
DTSTAMP:20260424T164621
CREATED:20200303T163424Z
LAST-MODIFIED:20200811T124304Z
UID:10000146-1585245600-1585249200@xn--lnderzentrum-fr-niederdeutsch-0pc17e.de
SUMMARY:Platt is bunt! – Unterrichtsideen für Sekundarstufe I
DESCRIPTION:Termin: Donnerstag 18.00 – 19.00 Uhr\nDauer: 3 Web-Seminare \n\n12.03\n19.03\n26.03\n\nZielgruppe: Lehrkräfte der Sekundarstufe I \nZiel: Entwicklung von Unterrichtsideen zur Einbindung der plattdeutschen Sprache in den Unterricht \nWeb-Seminarleiterin: Heike Hiestermann\, Beraterin für die Region und die Sprachen Niederdeutsch und Saterfriesisch im Unterricht\, Niedersächsische Landesschulbehörde \nMax. Teilnehmerzahl: 8 \nInhalt:\nPlattdeutsch-Unterricht lebendig gestalten. – In den Web-Seminarsitzungen werden ausgewählte Bausteine aus den Gebieten Sprachbegegnung\, Spiel\, Lexik\, Textarbeit\, Grammatik\, Konversation\, Textproduktion von der Referentin vorgestellt und soweit möglich ausprobiert. Gemeinsam besprechen wir die Einsatzmöglichkeiten im Unterricht (WPK-Kurse oder AGs der SEK I\, Sprachbegegnung im Fach Deutsch) und entwickeln Ideen für die anschließende Präsentation von Arbeitsergebnissen. \nNedderdüütsch lebennig lehren. – Utsöcht Bispelen ut de Rebeten Spraakbegegnen\, Speel\, Arbeit mit Texten\, Woortarbeit\, Grammatik\, Snacken\, Texte produzeren warrt vörstellt un ehr Möögligkeiten för den Ünnericht besnackt. Tosamen överleggt wi\, woans dat in en WPK-Kurs oder AG insett warrn kann. Wi wüllt ok över Weeg nadenken\, dat wat bi rutkaamt\, wat sik sehn laten kann. \nAnmellen unner: Platt is bunt!
URL:https://xn--lnderzentrum-fr-niederdeutsch-0pc17e.de/veranstalt/platt-is-bunt-unterrichtsideen-fuer-sekundarstufe-i/2020-03-26/
LOCATION:Online
CATEGORIES:Web-Seminare
END:VEVENT
BEGIN:VEVENT
DTSTART;TZID=Europe/Berlin:20200319T180000
DTEND;TZID=Europe/Berlin:20200319T190000
DTSTAMP:20260424T164621
CREATED:20200303T163424Z
LAST-MODIFIED:20200811T124304Z
UID:10000145-1584640800-1584644400@xn--lnderzentrum-fr-niederdeutsch-0pc17e.de
SUMMARY:Platt is bunt! – Unterrichtsideen für Sekundarstufe I
DESCRIPTION:Termin: Donnerstag 18.00 – 19.00 Uhr\nDauer: 3 Web-Seminare \n\n12.03\n19.03\n26.03\n\nZielgruppe: Lehrkräfte der Sekundarstufe I \nZiel: Entwicklung von Unterrichtsideen zur Einbindung der plattdeutschen Sprache in den Unterricht \nWeb-Seminarleiterin: Heike Hiestermann\, Beraterin für die Region und die Sprachen Niederdeutsch und Saterfriesisch im Unterricht\, Niedersächsische Landesschulbehörde \nMax. Teilnehmerzahl: 8 \nInhalt:\nPlattdeutsch-Unterricht lebendig gestalten. – In den Web-Seminarsitzungen werden ausgewählte Bausteine aus den Gebieten Sprachbegegnung\, Spiel\, Lexik\, Textarbeit\, Grammatik\, Konversation\, Textproduktion von der Referentin vorgestellt und soweit möglich ausprobiert. Gemeinsam besprechen wir die Einsatzmöglichkeiten im Unterricht (WPK-Kurse oder AGs der SEK I\, Sprachbegegnung im Fach Deutsch) und entwickeln Ideen für die anschließende Präsentation von Arbeitsergebnissen. \nNedderdüütsch lebennig lehren. – Utsöcht Bispelen ut de Rebeten Spraakbegegnen\, Speel\, Arbeit mit Texten\, Woortarbeit\, Grammatik\, Snacken\, Texte produzeren warrt vörstellt un ehr Möögligkeiten för den Ünnericht besnackt. Tosamen överleggt wi\, woans dat in en WPK-Kurs oder AG insett warrn kann. Wi wüllt ok över Weeg nadenken\, dat wat bi rutkaamt\, wat sik sehn laten kann. \nAnmellen unner: Platt is bunt!
URL:https://xn--lnderzentrum-fr-niederdeutsch-0pc17e.de/veranstalt/platt-is-bunt-unterrichtsideen-fuer-sekundarstufe-i/2020-03-19/
LOCATION:Online
CATEGORIES:Web-Seminare
END:VEVENT
BEGIN:VEVENT
DTSTART;TZID=Europe/Berlin:20200312T180000
DTEND;TZID=Europe/Berlin:20200312T190000
DTSTAMP:20260424T164621
CREATED:20200303T163424Z
LAST-MODIFIED:20200811T124304Z
UID:10000144-1584036000-1584039600@xn--lnderzentrum-fr-niederdeutsch-0pc17e.de
SUMMARY:Platt is bunt! – Unterrichtsideen für Sekundarstufe I
DESCRIPTION:Termin: Donnerstag 18.00 – 19.00 Uhr\nDauer: 3 Web-Seminare \n\n12.03\n19.03\n26.03\n\nZielgruppe: Lehrkräfte der Sekundarstufe I \nZiel: Entwicklung von Unterrichtsideen zur Einbindung der plattdeutschen Sprache in den Unterricht \nWeb-Seminarleiterin: Heike Hiestermann\, Beraterin für die Region und die Sprachen Niederdeutsch und Saterfriesisch im Unterricht\, Niedersächsische Landesschulbehörde \nMax. Teilnehmerzahl: 8 \nInhalt:\nPlattdeutsch-Unterricht lebendig gestalten. – In den Web-Seminarsitzungen werden ausgewählte Bausteine aus den Gebieten Sprachbegegnung\, Spiel\, Lexik\, Textarbeit\, Grammatik\, Konversation\, Textproduktion von der Referentin vorgestellt und soweit möglich ausprobiert. Gemeinsam besprechen wir die Einsatzmöglichkeiten im Unterricht (WPK-Kurse oder AGs der SEK I\, Sprachbegegnung im Fach Deutsch) und entwickeln Ideen für die anschließende Präsentation von Arbeitsergebnissen. \nNedderdüütsch lebennig lehren. – Utsöcht Bispelen ut de Rebeten Spraakbegegnen\, Speel\, Arbeit mit Texten\, Woortarbeit\, Grammatik\, Snacken\, Texte produzeren warrt vörstellt un ehr Möögligkeiten för den Ünnericht besnackt. Tosamen överleggt wi\, woans dat in en WPK-Kurs oder AG insett warrn kann. Wi wüllt ok över Weeg nadenken\, dat wat bi rutkaamt\, wat sik sehn laten kann. \nAnmellen unner: Platt is bunt!
URL:https://xn--lnderzentrum-fr-niederdeutsch-0pc17e.de/veranstalt/platt-is-bunt-unterrichtsideen-fuer-sekundarstufe-i/2020-03-12/
LOCATION:Online
CATEGORIES:Web-Seminare
END:VEVENT
END:VCALENDAR